BEGIN:VCALENDAR
VERSION:2.0
PRODID:kalender.digital
METHOD:PUBLISH
BEGIN:VEVENT
UID:KDIG1265854967
DTSTART:20251014T170000Z
SEQUENCE:0
TRANSP:OPAQUE
DTEND:20251014T190000Z
LOCATION:Bürgerhaus Litzendorf
SUMMARY:Mitgliederversammlung
CLASS:PUBLIC
DESCRIPTION:‼️Neuer Termin ‼️
DTSTAMP:20260423T114841Z
CREATED:20250902T160731Z
LAST-MODIFIED:20250918T202014Z
END:VEVENT
END:VCALENDAR