BEGIN:VCALENDAR
VERSION:2.0
PRODID:kalender.digital
METHOD:PUBLISH
BEGIN:VEVENT
UID:KDIG2461839800
DTSTART:20260423T070000Z
SEQUENCE:0
TRANSP:OPAQUE
DTEND:20260423T110000Z
SUMMARY:Sonderberatung BUCHHALTUNG mit Matthias Kreinz & Regula Spirig
CLASS:PUBLIC
DESCRIPTION:Anmeldung via daniela@artfaq.ch\n\nHast du Fragen zu Buchungen\
 , Abgrenzungen\, Kontierung\, Bilanz\, Erfolgsrechnung oder dem Jahresabsc
 hluss? In dieser Sonderberatung stehen dir zwei Berater:innen für eine St
 unde zur Verfügung und teilen ihre buchhalterischen Tipps und Tricks. Bri
 ng deine konkreten Fragen und am besten auch den Compi mit deinem Buchhalt
 ungsprogramm mit.\n\nBuche jetzt deinen Slot für die Sonderberatung via d
 aniela(at)artfaq.ch inkl. 2-3 Sätzen zu deinem Anliegen. Anders als in de
 r regulären Beratung kannst und musst du für die Sonderberatung einen Ze
 itslot reservieren. Wir vergeben 4 Slots\, die jeweils zur vollen Stunde b
 eginnen.
DTSTAMP:20260424T093636Z
CREATED:20260310T171253Z
LAST-MODIFIED:20260310T171514Z
END:VEVENT
END:VCALENDAR