BEGIN:VCALENDAR
VERSION:2.0
PRODID:kalender.digital
METHOD:PUBLISH
BEGIN:VEVENT
UID:KDIG930872961
DTSTART;VALUE=DATE:20250418
SEQUENCE:0
TRANSP:OPAQUE
DTEND;VALUE=DATE:20250419
SUMMARY:Forellen-Räuchern
CLASS:PUBLIC
X-MICROSOFT-CDO-ALLDAYEVENT:TRUE
DTSTAMP:20260422T144109Z
CREATED:20241207T082755Z
LAST-MODIFIED:20250421T073456Z
END:VEVENT
END:VCALENDAR